BEGIN:VCALENDAR
VERSION:2.0
PRODID:-//Contesto - ECPv6.15.20//NONSGML v1.0//EN
CALSCALE:GREGORIAN
METHOD:PUBLISH
X-WR-CALNAME:Contesto
X-ORIGINAL-URL:https://www.contestofestival.it
X-WR-CALDESC:Eventi per Contesto
REFRESH-INTERVAL;VALUE=DURATION:PT1H
X-Robots-Tag:noindex
X-PUBLISHED-TTL:PT1H
BEGIN:VTIMEZONE
TZID:Europe/Rome
BEGIN:DAYLIGHT
TZOFFSETFROM:+0100
TZOFFSETTO:+0200
TZNAME:CEST
DTSTART:20240331T010000
END:DAYLIGHT
BEGIN:STANDARD
TZOFFSETFROM:+0200
TZOFFSETTO:+0100
TZNAME:CET
DTSTART:20241027T010000
END:STANDARD
BEGIN:DAYLIGHT
TZOFFSETFROM:+0100
TZOFFSETTO:+0200
TZNAME:CEST
DTSTART:20250330T010000
END:DAYLIGHT
BEGIN:STANDARD
TZOFFSETFROM:+0200
TZOFFSETTO:+0100
TZNAME:CET
DTSTART:20251026T010000
END:STANDARD
BEGIN:DAYLIGHT
TZOFFSETFROM:+0100
TZOFFSETTO:+0200
TZNAME:CEST
DTSTART:20260329T010000
END:DAYLIGHT
BEGIN:STANDARD
TZOFFSETFROM:+0200
TZOFFSETTO:+0100
TZNAME:CET
DTSTART:20261025T010000
END:STANDARD
END:VTIMEZONE
BEGIN:VEVENT
DTSTART;TZID=Europe/Rome:20250913T173000
DTEND;TZID=Europe/Rome:20250913T173000
DTSTAMP:20260420T014756
CREATED:20250821T094623Z
LAST-MODIFIED:20250827T094516Z
UID:621-1757784600-1757784600@www.contestofestival.it
SUMMARY:Uoldelul Chelati Dirar
DESCRIPTION:Spesso il colonialismo viene percepito prevalentemente come un fenomeno violento e che ha segnato profondamente il destino\, gli sviluppi futuri e le identità delle popolazioni che lo hanno subito. Nel caso italiano va anche aggiunto un forte ritardo nel dibattito pubblico su questo tema.\nInsieme cercheremo invece di capire le implicazioni sociali\, culturali ed economiche di lungo periodo del colonialismo. In particolare discuteremo quanto e in che modo l’esperienza coloniale abbia contribuiito a plasmare l’identità nazionale italiana oltre che il processo di costruzione dello stato contemporaneo nelle ex-colonie. \nINGRESSO LIBERO \nTORNA AL SITO
URL:https://www.contestofestival.it/evento/uoldelul-chelati-dirar/
LOCATION:Cenacolo e Chiostro degli Agostiniani\, Via dei Neri\, Empoli\, Italy
CATEGORIES:/contè.sto/
ATTACH;FMTTYPE=image/jpeg:https://www.contestofestival.it/wp-content/uploads/2025/08/card_dirar.jpg
END:VEVENT
END:VCALENDAR