BEGIN:VCALENDAR
VERSION:2.0
PRODID:-//Contesto - ECPv6.15.20//NONSGML v1.0//EN
CALSCALE:GREGORIAN
METHOD:PUBLISH
X-WR-CALNAME:Contesto
X-ORIGINAL-URL:https://www.contestofestival.it
X-WR-CALDESC:Eventi per Contesto
REFRESH-INTERVAL;VALUE=DURATION:PT1H
X-Robots-Tag:noindex
X-PUBLISHED-TTL:PT1H
BEGIN:VTIMEZONE
TZID:Europe/Rome
BEGIN:DAYLIGHT
TZOFFSETFROM:+0100
TZOFFSETTO:+0200
TZNAME:CEST
DTSTART:20240331T010000
END:DAYLIGHT
BEGIN:STANDARD
TZOFFSETFROM:+0200
TZOFFSETTO:+0100
TZNAME:CET
DTSTART:20241027T010000
END:STANDARD
BEGIN:DAYLIGHT
TZOFFSETFROM:+0100
TZOFFSETTO:+0200
TZNAME:CEST
DTSTART:20250330T010000
END:DAYLIGHT
BEGIN:STANDARD
TZOFFSETFROM:+0200
TZOFFSETTO:+0100
TZNAME:CET
DTSTART:20251026T010000
END:STANDARD
BEGIN:DAYLIGHT
TZOFFSETFROM:+0100
TZOFFSETTO:+0200
TZNAME:CEST
DTSTART:20260329T010000
END:DAYLIGHT
BEGIN:STANDARD
TZOFFSETFROM:+0200
TZOFFSETTO:+0100
TZNAME:CET
DTSTART:20261025T010000
END:STANDARD
END:VTIMEZONE
BEGIN:VEVENT
DTSTART;TZID=Europe/Rome:20250912T150000
DTEND;TZID=Europe/Rome:20250912T150000
DTSTAMP:20260424T135232
CREATED:20250717T162218Z
LAST-MODIFIED:20250821T075314Z
UID:500-1757689200-1757689200@www.contestofestival.it
SUMMARY:FUORI/contè.sto/ | Lavandaie in Arno...
DESCRIPTION:“Fuoricontè.sto”\, l’anteprima al festival /contè.sto/ a Empoli in programma dal 12 al 14 settembre 2025\, chiama a raccolta le associazioni di storia locale\, le scuole e i docenti di storia\, le memorie dei cittadini e delle cittadine\, condensate in racconti e documenti. \nAd aprire la terza giornata del festival collaterale\, venerdì 12 settembre 2025\, lo spettacolo a cura dell’associazione Proloco Empoli dal titolo “Le Lavandaie in Arno tra rime\, canzoni\, sorrisi e pianti”\, dalle 15 alle 16\, Dove? Al parco Mariambini. \nI lavatoi ci ricordano l’antichissimo e faticoso lavoro delle lavandaie\, intorno ai quali\, le donne\, si raccontavano\, si sfogavano\, litigavano\, socializzavano. Questo vuole raccontare l’appuntamento del 12 settembre tra battute\, canzoni\, rime e pianti. \nIngresso libero. \nTORNA AL SITO
URL:https://www.contestofestival.it/evento/lavandaie-arno/
LOCATION:Parco Mariambini\, Parco Mariambini\, Empoli\, Italy
CATEGORIES:Fuori/contè.sto/
ATTACH;FMTTYPE=image/jpeg:https://www.contestofestival.it/wp-content/uploads/2025/08/card_lavandaie_arno.jpg
END:VEVENT
END:VCALENDAR