BEGIN:VCALENDAR
VERSION:2.0
PRODID:-//Contesto - ECPv6.15.20//NONSGML v1.0//EN
CALSCALE:GREGORIAN
METHOD:PUBLISH
X-ORIGINAL-URL:https://www.contestofestival.it
X-WR-CALDESC:Eventi per Contesto
REFRESH-INTERVAL;VALUE=DURATION:PT1H
X-Robots-Tag:noindex
X-PUBLISHED-TTL:PT1H
BEGIN:VTIMEZONE
TZID:Europe/Rome
BEGIN:DAYLIGHT
TZOFFSETFROM:+0100
TZOFFSETTO:+0200
TZNAME:CEST
DTSTART:20240331T010000
END:DAYLIGHT
BEGIN:STANDARD
TZOFFSETFROM:+0200
TZOFFSETTO:+0100
TZNAME:CET
DTSTART:20241027T010000
END:STANDARD
BEGIN:DAYLIGHT
TZOFFSETFROM:+0100
TZOFFSETTO:+0200
TZNAME:CEST
DTSTART:20250330T010000
END:DAYLIGHT
BEGIN:STANDARD
TZOFFSETFROM:+0200
TZOFFSETTO:+0100
TZNAME:CET
DTSTART:20251026T010000
END:STANDARD
BEGIN:DAYLIGHT
TZOFFSETFROM:+0100
TZOFFSETTO:+0200
TZNAME:CEST
DTSTART:20260329T010000
END:DAYLIGHT
BEGIN:STANDARD
TZOFFSETFROM:+0200
TZOFFSETTO:+0100
TZNAME:CET
DTSTART:20261025T010000
END:STANDARD
END:VTIMEZONE
BEGIN:VEVENT
DTSTART;TZID=Europe/Rome:20250914T113000
DTEND;TZID=Europe/Rome:20250914T113000
DTSTAMP:20260421T080717
CREATED:20250827T081309Z
LAST-MODIFIED:20250827T081317Z
UID:656-1757849400-1757849400@www.contestofestival.it
SUMMARY:Miguel Gotor
DESCRIPTION:Ci si soffermerà inizialmente sul significato dell’uso dell’espressione «anni di piombo»\, sulla nozione di «partito armato»\, sulla distinzione pratica e teorica intercorrente tra violenza politica e lotta armata e sull’ambiguità del concetto di terrorismo. \nSarà poi fornito un inquadramento generale della crisi economica\, sociale\, civile e politica dell’Italia tra il 1969 e il 1973 soffermandosi sulle cause che portarono una minoranza di giovani a scegliere la strada della lotta armata all’interno di una serie di sigle tra cui inizieranno a distinguersi le Brigate rosse che hanno origine all’interno dei fermenti terzomondisti\, movimentisti e operaisti del periodo. \nVerranno illustrate le profonde e articolate radici culturali alla base della lotta armata in Italia che non sono riconducibili soltanto alla tradizione marxista-leninista\, ma anche a quella di matrice cattolica e azionista. \nNella seconda parte dell’intervento saranno ricordati i primi omicidi politici selettivi non imputabili alle Brigate rosse (Floris\, 1971\, Calabresi\, 1972) per poi soffermarsi sulla storia delle Brigate rosse (dai primi rapimenti «mordi e fuggi» al sequestro del magistrato Mario Sossi nel 1974). Il 1976 costituisce un anno di svolta con un aumento dei militanti armati in seguito al definitivo scioglimento di Potere operaio e Lotta continua\, la nascita di Prima linea e la realizzazione dei primi omicidi intenzionali delle Br (il magistrato Coco e la sua scorta). Infine\, verranno affrontati per sommi capi il caso Moro che\, lungi dal rappresentare la crisi delle Brigate rosse\, in realtà consegnò a quell’organizzazione l’egemonia all’interno del «partito armato». \nUna terza parte dell’intervento sarà dedicata al triennio 1978-1981\, quello dell’apogeo e della crisi del fenomeno. In questa fase avverrà il numero maggiore di omicidi tra magistrati\, giornalisti\, avvocati\, professori\, dirigenti politici\, medici\, ma anche l’inizio di un contrasto più deciso da parte del governo. Le autorità\, grazie al pentitismo e alla dissociazione\, alle infiltrazioni e a una più decisa azione della magistratura (con l’operazione «7 aprile» 1979) riusciranno a disarticolare il «partito armato» e a sconfiggere le Brigate rosse che nel marzo 1982 annunceranno la loro «ritirata strategica». \nL’intervento terminerà con un bilancio dei costi politici\, civili e sociali di questa tragica esperienza. \nINGRESSO LIBERO \nTORNA AL SITO
URL:https://www.contestofestival.it/evento/miguel-gotor/
LOCATION:Piazza del Popolo\, Piazza del Popolo\, Empoli\, Italy
CATEGORIES:/contè.sto/
ATTACH;FMTTYPE=image/jpeg:https://www.contestofestival.it/wp-content/uploads/2025/08/card_gotor.jpg
END:VEVENT
END:VCALENDAR