BEGIN:VCALENDAR
VERSION:2.0
PRODID:-//Contesto - ECPv6.15.20//NONSGML v1.0//EN
CALSCALE:GREGORIAN
METHOD:PUBLISH
X-ORIGINAL-URL:https://www.contestofestival.it
X-WR-CALDESC:Eventi per Contesto
REFRESH-INTERVAL;VALUE=DURATION:PT1H
X-Robots-Tag:noindex
X-PUBLISHED-TTL:PT1H
BEGIN:VTIMEZONE
TZID:Europe/Rome
BEGIN:DAYLIGHT
TZOFFSETFROM:+0100
TZOFFSETTO:+0200
TZNAME:CEST
DTSTART:20240331T010000
END:DAYLIGHT
BEGIN:STANDARD
TZOFFSETFROM:+0200
TZOFFSETTO:+0100
TZNAME:CET
DTSTART:20241027T010000
END:STANDARD
BEGIN:DAYLIGHT
TZOFFSETFROM:+0100
TZOFFSETTO:+0200
TZNAME:CEST
DTSTART:20250330T010000
END:DAYLIGHT
BEGIN:STANDARD
TZOFFSETFROM:+0200
TZOFFSETTO:+0100
TZNAME:CET
DTSTART:20251026T010000
END:STANDARD
BEGIN:DAYLIGHT
TZOFFSETFROM:+0100
TZOFFSETTO:+0200
TZNAME:CEST
DTSTART:20260329T010000
END:DAYLIGHT
BEGIN:STANDARD
TZOFFSETFROM:+0200
TZOFFSETTO:+0100
TZNAME:CET
DTSTART:20261025T010000
END:STANDARD
END:VTIMEZONE
BEGIN:VEVENT
DTSTART;TZID=Europe/Rome:20250912T213000
DTEND;TZID=Europe/Rome:20250912T213000
DTSTAMP:20260425T061423
CREATED:20250821T081644Z
LAST-MODIFIED:20250821T081644Z
UID:586-1757712600-1757712600@www.contestofestival.it
SUMMARY:FUORI/contè.sto/ | Luca Nesti e Banda Gaber raccontano il Signor G
DESCRIPTION:Alle 21.30\, in piazza Farinata degli Uberti\, andranno in scena “Luca Nesti e Banda Gaber raccontano il Signor G”. Una proposta all’insegna di canzoni e aneddoti del noto cantautore milanese. Sarà uno spettacolo coinvolgente che rende omaggio alla figura straordinaria di Giorgio Gaber\, maestro indiscusso del teatro-canzone e tra i più influenti protagonisti del rock italiano del secondo dopoguerra. Attraverso canzoni\, letture e aneddoti\, lo spettacolo ripercorre il pensiero e l’arte di Gaber con il massimo rispetto e autenticità\, grazie alla presenza dei musicisti che lo hanno affiancato per oltre vent’anni. L’obiettivo non è quello di proporre una semplice tribute band\, ma di restituire le emozioni vere e la forza comunicativa di un artista unico e irripetibile\, mantenendo vivo il suo spirito e il suo messaggio. \nIngresso libero. \nTORNA AL SITO
URL:https://www.contestofestival.it/evento/luca-nesti-bada-gaber/
LOCATION:Piazza Farinata degli Uberti\, Piazza Farinata degli Uberti\, Empoli\, Italy
CATEGORIES:Fuori/contè.sto/
ATTACH;FMTTYPE=image/jpeg:https://www.contestofestival.it/wp-content/uploads/2025/08/card_nesti.jpg
END:VEVENT
END:VCALENDAR