BEGIN:VCALENDAR
VERSION:2.0
PRODID:-//Contesto - ECPv6.15.20//NONSGML v1.0//EN
CALSCALE:GREGORIAN
METHOD:PUBLISH
X-ORIGINAL-URL:https://www.contestofestival.it
X-WR-CALDESC:Eventi per Contesto
REFRESH-INTERVAL;VALUE=DURATION:PT1H
X-Robots-Tag:noindex
X-PUBLISHED-TTL:PT1H
BEGIN:VTIMEZONE
TZID:Europe/Rome
BEGIN:DAYLIGHT
TZOFFSETFROM:+0100
TZOFFSETTO:+0200
TZNAME:CEST
DTSTART:20240331T010000
END:DAYLIGHT
BEGIN:STANDARD
TZOFFSETFROM:+0200
TZOFFSETTO:+0100
TZNAME:CET
DTSTART:20241027T010000
END:STANDARD
BEGIN:DAYLIGHT
TZOFFSETFROM:+0100
TZOFFSETTO:+0200
TZNAME:CEST
DTSTART:20250330T010000
END:DAYLIGHT
BEGIN:STANDARD
TZOFFSETFROM:+0200
TZOFFSETTO:+0100
TZNAME:CET
DTSTART:20251026T010000
END:STANDARD
BEGIN:DAYLIGHT
TZOFFSETFROM:+0100
TZOFFSETTO:+0200
TZNAME:CEST
DTSTART:20260329T010000
END:DAYLIGHT
BEGIN:STANDARD
TZOFFSETFROM:+0200
TZOFFSETTO:+0100
TZNAME:CET
DTSTART:20261025T010000
END:STANDARD
END:VTIMEZONE
BEGIN:VEVENT
DTSTART;TZID=Europe/Rome:20250914T173000
DTEND;TZID=Europe/Rome:20250914T173000
DTSTAMP:20260421T160443
CREATED:20250827T090155Z
LAST-MODIFIED:20250827T093532Z
UID:660-1757871000-1757871000@www.contestofestival.it
SUMMARY:Giorgio Zanchini e Giovanni De Luna
DESCRIPTION:Poche figure nel nostro Paese si sono misurate con i grandi snodi del Novecento italiano con il rigore e la passione di Giovanni De Luna. Dal fascismo alla Resistenza\, dalla fragilità della Repubblica sino agli anni del terrorismo\, De Luna ha non soltanto aperto filoni di ricerca ma anche molto riflettuto sul ruolo pubblico della storia e sull’eredità di quegli eventi e passaggi. Pochi dunque sono in grado come lui di rispondere alla domanda – ma anche alle altre domande che gli porrà Giorgio Zanchini – da cui parte il festival /contè.sto/: che cos’è la storia contemporanea? \nINGRESSO LIBERO \nTORNA AL SITO
URL:https://www.contestofestival.it/evento/giorgio-zanchini-giovanni-de-luna/
LOCATION:Piazza Farinata degli Uberti\, Piazza Farinata degli Uberti\, Empoli\, Italy
CATEGORIES:/contè.sto/
ATTACH;FMTTYPE=image/jpeg:https://www.contestofestival.it/wp-content/uploads/2025/08/card_zanchini_deluna.jpg
END:VEVENT
END:VCALENDAR