BEGIN:VCALENDAR
VERSION:2.0
PRODID:-//Contesto - ECPv6.15.20//NONSGML v1.0//EN
CALSCALE:GREGORIAN
METHOD:PUBLISH
X-ORIGINAL-URL:https://www.contestofestival.it
X-WR-CALDESC:Eventi per Contesto
REFRESH-INTERVAL;VALUE=DURATION:PT1H
X-Robots-Tag:noindex
X-PUBLISHED-TTL:PT1H
BEGIN:VTIMEZONE
TZID:Europe/Rome
BEGIN:DAYLIGHT
TZOFFSETFROM:+0100
TZOFFSETTO:+0200
TZNAME:CEST
DTSTART:20240331T010000
END:DAYLIGHT
BEGIN:STANDARD
TZOFFSETFROM:+0200
TZOFFSETTO:+0100
TZNAME:CET
DTSTART:20241027T010000
END:STANDARD
BEGIN:DAYLIGHT
TZOFFSETFROM:+0100
TZOFFSETTO:+0200
TZNAME:CEST
DTSTART:20250330T010000
END:DAYLIGHT
BEGIN:STANDARD
TZOFFSETFROM:+0200
TZOFFSETTO:+0100
TZNAME:CET
DTSTART:20251026T010000
END:STANDARD
BEGIN:DAYLIGHT
TZOFFSETFROM:+0100
TZOFFSETTO:+0200
TZNAME:CEST
DTSTART:20260329T010000
END:DAYLIGHT
BEGIN:STANDARD
TZOFFSETFROM:+0200
TZOFFSETTO:+0100
TZNAME:CET
DTSTART:20261025T010000
END:STANDARD
END:VTIMEZONE
BEGIN:VEVENT
DTSTART;TZID=Europe/Rome:20250914T160000
DTEND;TZID=Europe/Rome:20250914T160000
DTSTAMP:20260424T135230
CREATED:20250827T081711Z
LAST-MODIFIED:20250827T081837Z
UID:658-1757865600-1757865600@www.contestofestival.it
SUMMARY:Benedetta Tobagi
DESCRIPTION:La narrazione pubblica degli anni Settanta in Italia è ancora un campo di battaglia. In particolare\, la destra erede del Msi è sospesa tra l’attaccamento a una memoria “di parte”\, simile a un culto dei martiri\, che rinsalda il senso di appartenenza a una comunità perseguitata\, e il rifiuto a fare i conti con l’“album di famiglia” del terrorismo nero. Comprendere come e perché e questo accade è cruciale. A partire dal delicato snodo del biennio 1973-74\, la riflessione si sofferma\, da una parte\, su personaggi ed eventi che si muovono nella zona grigia tra Msi\, violenza politica e terrorismo nero; dall’altra\, sull’impatto pesante che ha avuto la “logica del nemico” e l’“empatia selettiva” della sinistra\, che ha portato a gravi ritardi nel riconoscere l’emergere di una violenza “rossa”\, al punto che le prime azioni armate di sinistra\, azioni violente come il rogo di Primavalle ai primi omicidi brigatisti furono ritenute vendette o provocazioni di destra\, sull’onda dello slogan “un compagno non può averlo fatto”. \nINGRESSO LIBERO \nTORNA AL SITO
URL:https://www.contestofestival.it/evento/benedetta-tobagi/
LOCATION:Piazza Farinata degli Uberti\, Piazza Farinata degli Uberti\, Empoli\, Italy
CATEGORIES:/contè.sto/
ATTACH;FMTTYPE=image/jpeg:https://www.contestofestival.it/wp-content/uploads/2025/08/card_tobagi.jpg
END:VEVENT
END:VCALENDAR