BEGIN:VCALENDAR
VERSION:2.0
PRODID:-//Contesto - ECPv6.15.20//NONSGML v1.0//EN
CALSCALE:GREGORIAN
METHOD:PUBLISH
X-WR-CALNAME:Contesto
X-ORIGINAL-URL:https://www.contestofestival.it
X-WR-CALDESC:Eventi per Contesto
REFRESH-INTERVAL;VALUE=DURATION:PT1H
X-Robots-Tag:noindex
X-PUBLISHED-TTL:PT1H
BEGIN:VTIMEZONE
TZID:Europe/Rome
BEGIN:DAYLIGHT
TZOFFSETFROM:+0100
TZOFFSETTO:+0200
TZNAME:CEST
DTSTART:20240331T010000
END:DAYLIGHT
BEGIN:STANDARD
TZOFFSETFROM:+0200
TZOFFSETTO:+0100
TZNAME:CET
DTSTART:20241027T010000
END:STANDARD
BEGIN:DAYLIGHT
TZOFFSETFROM:+0100
TZOFFSETTO:+0200
TZNAME:CEST
DTSTART:20250330T010000
END:DAYLIGHT
BEGIN:STANDARD
TZOFFSETFROM:+0200
TZOFFSETTO:+0100
TZNAME:CET
DTSTART:20251026T010000
END:STANDARD
BEGIN:DAYLIGHT
TZOFFSETFROM:+0100
TZOFFSETTO:+0200
TZNAME:CEST
DTSTART:20260329T010000
END:DAYLIGHT
BEGIN:STANDARD
TZOFFSETFROM:+0200
TZOFFSETTO:+0100
TZNAME:CET
DTSTART:20261025T010000
END:STANDARD
BEGIN:DAYLIGHT
TZOFFSETFROM:+0100
TZOFFSETTO:+0200
TZNAME:CEST
DTSTART:20270328T010000
END:DAYLIGHT
BEGIN:STANDARD
TZOFFSETFROM:+0200
TZOFFSETTO:+0100
TZNAME:CET
DTSTART:20271031T010000
END:STANDARD
END:VTIMEZONE
BEGIN:VEVENT
DTSTART;TZID=Europe/Rome:20250914T213000
DTEND;TZID=Europe/Rome:20250914T213000
DTSTAMP:20260420T054010
CREATED:20250821T091516Z
LAST-MODIFIED:20250827T094643Z
UID:601-1757885400-1757885400@www.contestofestival.it
SUMMARY:FUORI/contè.sto/ | Gino Terreni
DESCRIPTION:La manifestazione si chiuderà al Chiostro dalle 21 alle 22\, con la proiezione del documentario su Gino Terreni intitolato “Lo stupore pittorico”.  Un docufilm che sarà raccontato dal figlio\, Leonardo Terreni. \nIngresso libero. \nTORNA AL SITO
URL:https://www.contestofestival.it/evento/gino-terreni/
LOCATION:Cenacolo e Chiostro degli Agostiniani\, Via dei Neri\, Empoli\, Italy
CATEGORIES:Fuori/contè.sto/
ATTACH;FMTTYPE=image/jpeg:https://www.contestofestival.it/wp-content/uploads/2025/08/card_terreni.jpg
END:VEVENT
BEGIN:VEVENT
DTSTART;TZID=Europe/Rome:20260416T080000
DTEND;TZID=Europe/Rome:20260416T170000
DTSTAMP:20260420T054010
CREATED:20260416T145246Z
LAST-MODIFIED:20260416T145246Z
UID:838-1776326400-1776358800@www.contestofestival.it
SUMMARY:evento1
DESCRIPTION:
URL:https://www.contestofestival.it/evento/evento1/
END:VEVENT
BEGIN:VEVENT
DTSTART;TZID=Europe/Rome:20260416T080000
DTEND;TZID=Europe/Rome:20260416T170000
DTSTAMP:20260420T054010
CREATED:20260416T145334Z
LAST-MODIFIED:20260416T145334Z
UID:840-1776326400-1776358800@www.contestofestival.it
SUMMARY:evento2
DESCRIPTION:
URL:https://www.contestofestival.it/evento/evento2/
END:VEVENT
BEGIN:VEVENT
DTSTART;TZID=Europe/Rome:20260416T080000
DTEND;TZID=Europe/Rome:20260416T170000
DTSTAMP:20260420T054010
CREATED:20260416T145404Z
LAST-MODIFIED:20260416T145404Z
UID:842-1776326400-1776358800@www.contestofestival.it
SUMMARY:evento3
DESCRIPTION:
URL:https://www.contestofestival.it/evento/evento3/
END:VEVENT
BEGIN:VEVENT
DTSTART;TZID=Europe/Rome:20260416T080000
DTEND;TZID=Europe/Rome:20260416T170000
DTSTAMP:20260420T054010
CREATED:20260416T145455Z
LAST-MODIFIED:20260416T145455Z
UID:844-1776326400-1776358800@www.contestofestival.it
SUMMARY:evento4
DESCRIPTION:
URL:https://www.contestofestival.it/evento/evento4/
END:VEVENT
END:VCALENDAR