BEGIN:VCALENDAR
VERSION:2.0
PRODID:-//Contesto - ECPv6.15.20//NONSGML v1.0//EN
CALSCALE:GREGORIAN
METHOD:PUBLISH
X-ORIGINAL-URL:https://www.contestofestival.it
X-WR-CALDESC:Eventi per Contesto
REFRESH-INTERVAL;VALUE=DURATION:PT1H
X-Robots-Tag:noindex
X-PUBLISHED-TTL:PT1H
BEGIN:VTIMEZONE
TZID:Europe/Rome
BEGIN:DAYLIGHT
TZOFFSETFROM:+0100
TZOFFSETTO:+0200
TZNAME:CEST
DTSTART:20240331T010000
END:DAYLIGHT
BEGIN:STANDARD
TZOFFSETFROM:+0200
TZOFFSETTO:+0100
TZNAME:CET
DTSTART:20241027T010000
END:STANDARD
BEGIN:DAYLIGHT
TZOFFSETFROM:+0100
TZOFFSETTO:+0200
TZNAME:CEST
DTSTART:20250330T010000
END:DAYLIGHT
BEGIN:STANDARD
TZOFFSETFROM:+0200
TZOFFSETTO:+0100
TZNAME:CET
DTSTART:20251026T010000
END:STANDARD
BEGIN:DAYLIGHT
TZOFFSETFROM:+0100
TZOFFSETTO:+0200
TZNAME:CEST
DTSTART:20260329T010000
END:DAYLIGHT
BEGIN:STANDARD
TZOFFSETFROM:+0200
TZOFFSETTO:+0100
TZNAME:CET
DTSTART:20261025T010000
END:STANDARD
END:VTIMEZONE
BEGIN:VEVENT
DTSTART;TZID=Europe/Rome:20250913T150000
DTEND;TZID=Europe/Rome:20250913T150000
DTSTAMP:20260421T065723
CREATED:20250821T082031Z
LAST-MODIFIED:20250827T104858Z
UID:588-1757775600-1757775600@www.contestofestival.it
SUMMARY:FUORI/contè.sto/ | Paolo Padoin
DESCRIPTION:Dalle 15 alle 16\, incontro che vedrà ospite il Prefetto di Padova Paolo Padoin\, con cui dialogherà il Senatore della Repubblica italiana\, Dario Parrini. Tema dell’incontro: Il terrorismo rosso e nero. \nIngresso libero. \nTORNA AL SITO
URL:https://www.contestofestival.it/evento/paolo-padoin/
LOCATION:Parco Mariambini\, Parco Mariambini\, Empoli\, Italy
CATEGORIES:Fuori/contè.sto/
ATTACH;FMTTYPE=image/jpeg:https://www.contestofestival.it/wp-content/uploads/2025/08/card_padoin-1.jpg
END:VEVENT
BEGIN:VEVENT
DTSTART;TZID=Europe/Rome:20250913T190000
DTEND;TZID=Europe/Rome:20250913T190000
DTSTAMP:20260421T065723
CREATED:20250821T082439Z
LAST-MODIFIED:20250827T094535Z
UID:590-1757790000-1757790000@www.contestofestival.it
SUMMARY:FUORI/contè.sto/ | Stefano Romagnoli
DESCRIPTION:Dal palco del Chiostro degli Agostiniani\, dalle 19 alle 20\, dialogo con Stefano Romagnoli\, che presenterà il libro intitolato “Rivoluzionari e reazionari. Il biennio rosso nell’empolese (1919-1920). Modera l’assessore alla cultura del Comune di Empoli\, Matteo Bensi. \nIngresso libero. \nTORNA AL SITO
URL:https://www.contestofestival.it/evento/stefano-romagnoli/
LOCATION:Cenacolo e Chiostro degli Agostiniani\, Via dei Neri\, Empoli\, Italy
CATEGORIES:Fuori/contè.sto/
ATTACH;FMTTYPE=image/jpeg:https://www.contestofestival.it/wp-content/uploads/2025/08/card_romagnoli.jpg
END:VEVENT
BEGIN:VEVENT
DTSTART;TZID=Europe/Rome:20250913T223000
DTEND;TZID=Europe/Rome:20250913T223000
DTSTAMP:20260421T065723
CREATED:20250821T083108Z
LAST-MODIFIED:20250821T083141Z
UID:593-1757802600-1757802600@www.contestofestival.it
SUMMARY:FUORI/contè.sto/ | Mirincoro
DESCRIPTION:A chiusura della giornata\, da piazza del Popolo risuoneranno i canti del Mirincoro con  il racconto-concerto “Oltre il ponte. Un contributo alla memoria: Empoli nella Seconda Guerra mondiale”. \nIngresso libero. \nTORNA AL SITO
URL:https://www.contestofestival.it/evento/mirincoro/
LOCATION:Piazza del Popolo\, Piazza del Popolo\, Empoli\, Italy
CATEGORIES:Fuori/contè.sto/
ATTACH;FMTTYPE=image/jpeg:https://www.contestofestival.it/wp-content/uploads/2025/08/card_mirincoro.jpg
END:VEVENT
BEGIN:VEVENT
DTSTART;TZID=Europe/Rome:20250914T150000
DTEND;TZID=Europe/Rome:20250914T150000
DTSTAMP:20260421T065723
CREATED:20250821T083432Z
LAST-MODIFIED:20250821T084011Z
UID:595-1757862000-1757862000@www.contestofestival.it
SUMMARY:FUORI/contè.sto/ | Carmelo Albanese
DESCRIPTION:Ultima tappa di Fuoricontè.sto\, domenica 14 settembre 2025\, dalle 15 alle 16\, ancora protagonista il bel parco Mariambini\, con la presentazione del libro di Carmelo Albanese intitolato “Volontari della libertà. L’arruolamento nei Gruppi di combattimento a Empoli e in Valdelsa” (Le Monnier-Mondadori\, 2024)\, presentato al Cenacolo degli Agostiniani il 17 maggio 2025. \nCon l’autore dialogherà la storica Isabella Insolvibile. Un lavoro di ricerca storiografica: l’arruolamento di migliaia di giovani volontari nell’Esercito cobelligerante italiano tra il 1944 e il 1945. Una vicenda eccezionale eppure poco nota o addirittura del tutto sconosciuta. \nIngresso libero. \nTORNA AL SITO
URL:https://www.contestofestival.it/evento/carmelo-albanese/
LOCATION:Parco Mariambini\, Parco Mariambini\, Empoli\, Italy
CATEGORIES:Fuori/contè.sto/
ATTACH;FMTTYPE=image/jpeg:https://www.contestofestival.it/wp-content/uploads/2025/08/card_albanese_carmelo.jpg
END:VEVENT
BEGIN:VEVENT
DTSTART;TZID=Europe/Rome:20250914T193000
DTEND;TZID=Europe/Rome:20250914T193000
DTSTAMP:20260421T065723
CREATED:20250821T084232Z
LAST-MODIFIED:20250827T094618Z
UID:599-1757878200-1757878200@www.contestofestival.it
SUMMARY:FUORI/contè.sto/ | Egocity
DESCRIPTION:Fuooricontè.sto saluterà il pubblico dal Chiostro degli Agostiniani\, dalle 19.30 alle 22.30\, con l’incontro “Egocity: sviluppo di comunità sensibili” a cura di Mirco Donati. A cornice della serata\, una mostra organizzata dalle studentesse e dagli studenti dell’Istituto Calasanzio di Empoli. \nIngresso libero. \nTORNA AL SITO
URL:https://www.contestofestival.it/evento/egocity/
LOCATION:Cenacolo e Chiostro degli Agostiniani\, Via dei Neri\, Empoli\, Italy
CATEGORIES:Fuori/contè.sto/
ATTACH;FMTTYPE=image/jpeg:https://www.contestofestival.it/wp-content/uploads/2025/08/card_egocity.jpg
END:VEVENT
BEGIN:VEVENT
DTSTART;TZID=Europe/Rome:20250914T213000
DTEND;TZID=Europe/Rome:20250914T213000
DTSTAMP:20260421T065723
CREATED:20250821T091516Z
LAST-MODIFIED:20250827T094643Z
UID:601-1757885400-1757885400@www.contestofestival.it
SUMMARY:FUORI/contè.sto/ | Gino Terreni
DESCRIPTION:La manifestazione si chiuderà al Chiostro dalle 21 alle 22\, con la proiezione del documentario su Gino Terreni intitolato “Lo stupore pittorico”.  Un docufilm che sarà raccontato dal figlio\, Leonardo Terreni. \nIngresso libero. \nTORNA AL SITO
URL:https://www.contestofestival.it/evento/gino-terreni/
LOCATION:Cenacolo e Chiostro degli Agostiniani\, Via dei Neri\, Empoli\, Italy
CATEGORIES:Fuori/contè.sto/
ATTACH;FMTTYPE=image/jpeg:https://www.contestofestival.it/wp-content/uploads/2025/08/card_terreni.jpg
END:VEVENT
END:VCALENDAR